BEGIN:VCALENDAR
VERSION:2.0
PRODID:-//Tündök Egyesület - ECPv6.13.2.1//NONSGML v1.0//EN
CALSCALE:GREGORIAN
METHOD:PUBLISH
X-ORIGINAL-URL:https://tundokegyesulet.hu
X-WR-CALDESC:Események Tündök Egyesület
REFRESH-INTERVAL;VALUE=DURATION:PT1H
X-Robots-Tag:noindex
X-PUBLISHED-TTL:PT1H
BEGIN:VTIMEZONE
TZID:Europe/Budapest
BEGIN:DAYLIGHT
TZOFFSETFROM:+0100
TZOFFSETTO:+0200
TZNAME:CEST
DTSTART:20250330T010000
END:DAYLIGHT
BEGIN:STANDARD
TZOFFSETFROM:+0200
TZOFFSETTO:+0100
TZNAME:CET
DTSTART:20251026T010000
END:STANDARD
END:VTIMEZONE
BEGIN:VEVENT
DTSTART;TZID=Europe/Budapest:20251115T090000
DTEND;TZID=Europe/Budapest:20251115T160000
DTSTAMP:20260421T000708
CREATED:20251004T155846Z
LAST-MODIFIED:20251004T155846Z
UID:62138-1763197200-1763222400@tundokegyesulet.hu
SUMMARY:V.Nagykállói kolbásztöltő verseny
DESCRIPTION:V. Nagykállói Kolbásztöltő Verseny– 2025. november 15. \n\n\n\nCsaládok\, baráti társaságok és munkahelyi csapatok figyelem! Itt a lehetőség\, hogy együtt éljetek át egy felejthetetlen gasztronómiai kalandot! \n\n\n\nMenetrend:\n\n\n\n7:00 – Hagyományos disznóvágás a nap különleges kezdéseként (Megtekintés opcionális)\n9:00 – Gyülekező\n10:00 – Megnyitó és kolbásztöltő verseny indul\n\n\n\n Csapatoknak:\n\n\n\nNevezési díj: 30.000 Ft/csapat\nMinden csapat 10 kg tölteni való húst kap az egyenlő esélyekért.\nKreativitás\, összefogás és ízélmény – mind együtt a győzelemért!\n\n\n\n Fellépők:\n\n\n\nKállai Lakodalmas Egyesület\nPetri Pengetők\nBakos Zenekar\n\n\n\n Kóstolójegy a helyszínen kapható – ínycsiklandó finomságokkal várunk minden kedves érdeklődőt\, résztvevőt.\n\n\n\n Nevezés és információ:\n\n\n\n Online: https://tundokegyesulet.hu/nevezes/\n Email: tundokegyesulet@gmail.com\n Telefon: +36 20 554 9001\n\n\n\n Díjkiosztó: kb. 16:00 órakor\, a zsűri elnöke: Szakács Pál\, éttermi mester\n\n\n Ne hagyjátok ki! Gyűjtsétek össze a csapatotokat\, mutassátok meg\, ki készíti a legfinomabb kolbászt\, és éljetek át egy felejthetetlen napot Nagykállóban!\n\n\n Csatlakozz az eseményhez itt: https://fb.me/e/3bw9wryK3\n\n\n 
URL:https://tundokegyesulet.hu/rendezveny/v-nagykalloi-kolbasztolto-verseny/
END:VEVENT
END:VCALENDAR