BEGIN:VCALENDAR
VERSION:2.0
PRODID:-//Tündök Egyesület - ECPv6.13.2.1//NONSGML v1.0//EN
CALSCALE:GREGORIAN
METHOD:PUBLISH
X-WR-CALNAME:Tündök Egyesület
X-ORIGINAL-URL:https://tundokegyesulet.hu
X-WR-CALDESC:Események Tündök Egyesület
REFRESH-INTERVAL;VALUE=DURATION:PT1H
X-Robots-Tag:noindex
X-PUBLISHED-TTL:PT1H
BEGIN:VTIMEZONE
TZID:UTC
BEGIN:STANDARD
TZOFFSETFROM:+0000
TZOFFSETTO:+0000
TZNAME:UTC
DTSTART:20260101T000000
END:STANDARD
END:VTIMEZONE
BEGIN:VEVENT
DTSTART;TZID=UTC:20260705T080000
DTEND;TZID=UTC:20270705T180000
DTSTAMP:20260420T180903
CREATED:20240529T100908Z
LAST-MODIFIED:20251004T135917Z
UID:54967-1783238400-1814810400@tundokegyesulet.hu
SUMMARY:V. Nagykállói Kemencés Fesztivál
DESCRIPTION:ÚJDONSÁG!🔥Idén nemcsak kemencében\, hanem bográcsban és tárcsán is főzhetsz a versenyen! Három külön kategória\, három esély a győzelemre! 🏆 \nGyere el 2025. június 14.-én\, szombaton Harangodra\, és főzz velünk kemencében\, bográcsban vagy tárcsán – amit csak szeretsz! 🔥🥘 \n🕘 Gyülekező: 9:00\n🕙 Megnyitó: 10:00\n📍 Helyszín: Harangod – Nagykálló\n🏆 Eredményhírdetés: 19:00\n🎟️ A BELÉPÉS INGYENES! \n👨‍🍳 Főzőverseny 3 kategóriában: \n🍕 Kemencés ételek\n🍲 Bográcsos finomságok\n🍳 Tárcsás különlegességek \n🧑‍🤝‍🧑 4-5 fős csapatok jelentkezését várjuk!\n🔥 A mobilkemencét mi biztosítjuk\, de jöhetsz saját eszközzel is! \n🎯 Külön díjazás minden kategóriában!\n👨‍⚖️ Zsűrielnök: Szakács Pál – Éttermi Mester\n💸 Részvételi díj: 10.000 Ft/csapat\n📩 Jelentkezés: tundokegyesulet@gmail.com | 📞 +36 20 554 9001 \n🎪 Egész napos programok: \n-HAMAROSAN- \nÉlő zene és tánc – fellép: \n-HAMAROSAN- \nKóstolójegyek a helyszínen válthatóak! 🍴 \n🌟 Főzz\, kóstolj\, szórakozz – hozd a családot és a barátokat is!\n👉 Nevezési határidő június 12.-e! Ne maradj le! \nJelentkezem mint versenyző
URL:https://tundokegyesulet.hu/rendezveny/v-nagykalloi-kemences-fesztival/
LOCATION:Nagykálló-Harangod\, Téka Tábor\, Nagykálló-Harangod\, Szabolcs-Szatmár-Bereg megye\, 4320\, Hungary
CATEGORIES:Gasztronómia
END:VEVENT
END:VCALENDAR